BEGIN:VCALENDAR
VERSION:2.0
PRODID:-//TJ Madeja Music - ECPv6.15.20//NONSGML v1.0//EN
CALSCALE:GREGORIAN
METHOD:PUBLISH
X-ORIGINAL-URL:https://tjmadejamusic.com
X-WR-CALDESC:Events for TJ Madeja Music
REFRESH-INTERVAL;VALUE=DURATION:PT1H
X-Robots-Tag:noindex
X-PUBLISHED-TTL:PT1H
BEGIN:VTIMEZONE
TZID:UTC
BEGIN:STANDARD
TZOFFSETFROM:+0000
TZOFFSETTO:+0000
TZNAME:UTC
DTSTART:20170101T000000
END:STANDARD
END:VTIMEZONE
BEGIN:VEVENT
DTSTART;TZID=UTC:20180524T180000
DTEND;TZID=UTC:20180524T200000
DTSTAMP:20260423T071527
CREATED:20180518T061305Z
LAST-MODIFIED:20180521T155349Z
UID:71-1527184800-1527192000@tjmadejamusic.com
SUMMARY:ChiMOP Mary Lyon Youth Orchestra
DESCRIPTION:ChiMOP Mary Lyon Youth Orchestra – Mary Lyon School Auditorium \n 
URL:https://tjmadejamusic.com/event/chimop-mary-lyon-youth-orchestra-2/
LOCATION:Mary Lyon School Auditorium\, 2941 N McVicker Ave\, Chicago\, IL\, 60634\, United States
CATEGORIES:ChiMOP
GEO:41.934333;-87.7768886
X-APPLE-STRUCTURED-LOCATION;VALUE=URI;X-ADDRESS=Mary Lyon School Auditorium 2941 N McVicker Ave Chicago IL 60634 United States;X-APPLE-RADIUS=500;X-TITLE=2941 N McVicker Ave:geo:-87.7768886,41.934333
END:VEVENT
BEGIN:VEVENT
DTSTART;TZID=UTC:20180519T110000
DTEND;TZID=UTC:20180519T160000
DTSTAMP:20260423T071527
CREATED:20180518T060723Z
LAST-MODIFIED:20180521T155406Z
UID:66-1526727600-1526745600@tjmadejamusic.com
SUMMARY:ChiMOP Mary Lyon Youth Orchestra
DESCRIPTION:ChiMOP Mary Lyon Youth Orchestra at the Ravinia Festival
URL:https://tjmadejamusic.com/event/chimop-mary-lyon-youth-orchestra/
LOCATION:Ravinia Festival\, 200 Ravinia Park Rd\, Highland Park\, IL\, 60035\, United States
CATEGORIES:ChiMOP
GEO:42.1583572;-87.7752184
X-APPLE-STRUCTURED-LOCATION;VALUE=URI;X-ADDRESS=Ravinia Festival 200 Ravinia Park Rd Highland Park IL 60035 United States;X-APPLE-RADIUS=500;X-TITLE=200 Ravinia Park Rd:geo:-87.7752184,42.1583572
END:VEVENT
END:VCALENDAR